BEGIN:VCALENDAR
VERSION:2.0
PRODID:-//Squarespace Inc/Squarespace 6//v6//EN
BEGIN:VEVENT
UID:5cdb721f652dea4d46e44e5a@squarespace.com
DTSTAMP:20190515T020648Z
DTSTART:20190621T230000Z
DTEND:20190622T030000Z
SUMMARY:Spoon Carving Workshop at the Cottage Studio (SOLD OUT)
END:VEVENT
END:VCALENDAR
