BEGIN:VCALENDAR
VERSION:2.0
PRODID:-//Squarespace Inc/Squarespace 6//v6//EN
BEGIN:VEVENT
UID:5cdb81cbe79c70fcb0c92c16@squarespace.com
DTSTAMP:20190905T065325Z
DTSTART:20190920T230000Z
DTEND:20190921T030000Z
SUMMARY:Spoon Carving Workshop at the Cottage Studio (SOLD OUT)
END:VEVENT
END:VCALENDAR
