BEGIN:VCALENDAR
VERSION:2.0
PRODID:-//Squarespace Inc/Squarespace 6//v6//EN
BEGIN:VEVENT
UID:5dec4ceb9d16d153cb764003@squarespace.com
DTSTAMP:20191208T011020Z
DTSTART:20200306T230000Z
DTEND:20200307T030000Z
SUMMARY:Bird Whittling Workshop at the Cottage Studio
END:VEVENT
END:VCALENDAR
