BEGIN:VCALENDAR
VERSION:2.0
PRODID:-//Squarespace Inc/Squarespace 6//v6//EN
BEGIN:VEVENT
UID:5dcceeaa0e95230ff4ec68a6@squarespace.com
DTSTAMP:20191127T100937Z
DTSTART:20191220T230000Z
DTEND:20191221T030000Z
SUMMARY:Bird Whittling Workshop at the Cottage Studio (SOLD OUT)
END:VEVENT
END:VCALENDAR
