BEGIN:VCALENDAR
VERSION:2.0
PRODID:-//Squarespace Inc/Squarespace 6//v6//EN
BEGIN:VEVENT
UID:5dc34f1541794935b8595264@squarespace.com
DTSTAMP:20191117T230025Z
DTSTART:20191206T230000Z
DTEND:20191207T030000Z
SUMMARY:Spoon Carving Workshop at the Cottage Studio (SOLD OUT)
END:VEVENT
END:VCALENDAR
