BEGIN:VCALENDAR
VERSION:2.0
PRODID:-//Squarespace Inc/Squarespace 6//v6//EN
BEGIN:VEVENT
UID:5e168af3aabb901b1856af5c@squarespace.com
DTSTAMP:20200122T133321Z
DTSTART:20200228T230000Z
DTEND:20200229T050000Z
SUMMARY:Full Day Spoon Carving Workshop at the Cottage Studio (SOLD OUT)
END:VEVENT
END:VCALENDAR
