BEGIN:VCALENDAR
VERSION:2.0
PRODID:-//Squarespace Inc/Squarespace 6//v6//EN
BEGIN:VEVENT
UID:5dec4a0cc8c6fd1d1c694351@squarespace.com
DTSTAMP:20200109T020737Z
DTSTART:20200214T230000Z
DTEND:20200215T050000Z
SUMMARY:Full Day Spoon Carving Workshop at the Cottage Studio (SOLD OUT)
END:VEVENT
END:VCALENDAR
