BEGIN:VCALENDAR
VERSION:2.0
PRODID:-//Squarespace Inc/Squarespace 6//v6//EN
BEGIN:VEVENT
UID:5dccf77e4658fc2b8e06a50c@squarespace.com
DTSTAMP:20191210T011811Z
DTSTART:20200131T230000Z
DTEND:20200201T050000Z
SUMMARY:Full Day Spoon Carving Workshop at the Cottage Studio (SOLD OUT)
END:VEVENT
END:VCALENDAR
