BEGIN:VCALENDAR
VERSION:2.0
PRODID:-//Squarespace Inc/Squarespace 6//v6//EN
BEGIN:VEVENT
UID:5d70b094cc599e000128c7de@squarespace.com
DTSTAMP:20191114T061519Z
DTSTART:20191129T230000Z
DTEND:20191130T030000Z
SUMMARY:Spoon Carving Workshop at the Cottage Studio (SOLD OUT)
END:VEVENT
END:VCALENDAR
