BEGIN:VCALENDAR
VERSION:2.0
PRODID:-//Squarespace Inc/Squarespace 6//v6//EN
BEGIN:VEVENT
UID:5d70af21cb38ee0001d10b6b@squarespace.com
DTSTAMP:20191208T011155Z
DTSTART:20191101T230000Z
DTEND:20191102T030000Z
SUMMARY:Spoon Carving Workshop at the Cottage Studio (SOLD OUT)
END:VEVENT
END:VCALENDAR
