BEGIN:VCALENDAR
VERSION:2.0
PRODID:-//Squarespace Inc/Squarespace 6//v6//EN
BEGIN:VEVENT
UID:5cdb81a9971a1829baf96b6d@squarespace.com
DTSTAMP:20190723T032849Z
DTSTART:20190906T230000Z
DTEND:20190907T030000Z
SUMMARY:Spoon Carving Workshop at the Cottage Studio (SOLD OUT)
END:VEVENT
END:VCALENDAR
