BEGIN:VCALENDAR
VERSION:2.0
PRODID:-//Squarespace Inc/Squarespace 6//v6//EN
BEGIN:VEVENT
UID:5cdb6a2d9b747a135ce036a3@squarespace.com
DTSTAMP:20190609T113753Z
DTSTART:20190719T230000Z
DTEND:20190720T030000Z
SUMMARY:Spoon Carving Workshop at the Cottage Studio (SOLD OUT)
END:VEVENT
END:VCALENDAR
