BEGIN:VCALENDAR
VERSION:2.0
PRODID:-//Squarespace Inc/Squarespace 6//v6//EN
BEGIN:VEVENT
UID:5e16913381ab92511eb2b219@squarespace.com
DTSTAMP:20200109T023615Z
DTSTART:20200418T010000Z
DTEND:20200418T050000Z
SUMMARY:Wooden Bird Whittling Workshop at Artisan Gallery
END:VEVENT
END:VCALENDAR
