BEGIN:VCALENDAR
VERSION:2.0
PRODID:-//Squarespace Inc/Squarespace 6//v6//EN
BEGIN:VEVENT
UID:5c922fccfa0d60694ef00400@squarespace.com
DTSTAMP:20190606T074708Z
DTSTART:20190608T030000Z
DTEND:20190608T053000Z
SUMMARY:Whittle a Bird Workshop at Artisan Gallery (SOLD OUT)
END:VEVENT
END:VCALENDAR
