BEGIN:VCALENDAR
VERSION:2.0
PRODID:-//Squarespace Inc/Squarespace 6//v6//EN
BEGIN:VEVENT
UID:5c579bd424a694539d253044@squarespace.com
DTSTAMP:20190320T122059Z
DTSTART:20190426T230000Z
DTEND:20190427T030000Z
SUMMARY:Spoon Carving Workshop at the Cottage Studio - SOLD OUT
END:VEVENT
END:VCALENDAR
