BEGIN:VCALENDAR
VERSION:2.0
PRODID:-//Squarespace Inc/Squarespace 6//v6//EN
BEGIN:VEVENT
UID:5c3c700a70a6ad9840d301f5@squarespace.com
DTSTAMP:20190207T041105Z
DTSTART:20190315T230000Z
DTEND:20190316T030000Z
SUMMARY:Spoon Carving Workshop at the Cottage Studio - SOLD OUT
END:VEVENT
END:VCALENDAR
