BEGIN:VCALENDAR
VERSION:2.0
PRODID:-//Squarespace Inc/Squarespace 6//v6//EN
BEGIN:VEVENT
UID:5bfd260d0ebbe8589981ed3f@squarespace.com
DTSTAMP:20190114T215744Z
DTSTART:20190215T230000Z
DTEND:20190216T030000Z
SUMMARY:Spoon Carving Workshop at the Cottage Studio - SOLD OUT
END:VEVENT
END:VCALENDAR
