BEGIN:VCALENDAR
VERSION:2.0
PRODID:-//Squarespace Inc/Squarespace 6//v6//EN
BEGIN:VEVENT
UID:5bfd25dc562fa701f91da7ea@squarespace.com
DTSTAMP:20190108T134207Z
DTSTART:20190111T230000Z
DTEND:20190112T030000Z
SUMMARY:Spoon Carving Workshop at the Cottage Studio - SOLD OUT
END:VEVENT
END:VCALENDAR
