BEGIN:VCALENDAR
VERSION:2.0
PRODID:-//Squarespace Inc/Squarespace 6//v6//EN
BEGIN:VEVENT
UID:5ba0dca68a922d20cd901ca4@squarespace.com
DTSTAMP:20181127T111557Z
DTSTART:20181214T230000Z
DTEND:20181215T030000Z
SUMMARY:Spoon Carving Workshop at the Cottage Studio - SOLD OUT
END:VEVENT
END:VCALENDAR
