BEGIN:VCALENDAR
VERSION:2.0
PRODID:-//Squarespace Inc/Squarespace 6//v6//EN
BEGIN:VEVENT
UID:5ba0dd370e2e72cd70de9dc4@squarespace.com
DTSTAMP:20181127T111544Z
DTSTART:20181221T230000Z
DTEND:20181222T030000Z
SUMMARY:Spoon Carving Workshop at the Cottage Studio - SOLD OUT
END:VEVENT
END:VCALENDAR
