BEGIN:VCALENDAR
VERSION:2.0
PRODID:-//Squarespace Inc/Squarespace 6//v6//EN
BEGIN:VEVENT
UID:5ba0bff31ae6cf6b144e7761@squarespace.com
DTSTAMP:20181024T061252Z
DTSTART:20181116T230000Z
DTEND:20181117T030000Z
SUMMARY:Spoon Carving Workshop at the Cottage Studio (SOLD OUT)
END:VEVENT
END:VCALENDAR
