BEGIN:VCALENDAR
VERSION:2.0
PRODID:-//Squarespace Inc/Squarespace 6//v6//EN
BEGIN:VEVENT
UID:5b6b897721c67cdcf00ea538@squarespace.com
DTSTAMP:20180918T110636Z
DTSTART:20181102T230000Z
DTEND:20181103T030000Z
SUMMARY:Spoon Carving Workshop at the Cottage Studio - SOLD OUT
END:VEVENT
END:VCALENDAR
