BEGIN:VCALENDAR
VERSION:2.0
PRODID:-//Squarespace Inc/Squarespace 6//v6//EN
BEGIN:VEVENT
UID:5b6b8469cd8366dfd7c43d88@squarespace.com
DTSTAMP:20180809T000205Z
DTSTART:20180907T230000Z
DTEND:20180908T030000Z
SUMMARY:Spoon Carving Workshop at the Cottage Studio
END:VEVENT
END:VCALENDAR
