BEGIN:VCALENDAR
VERSION:2.0
PRODID:-//Squarespace Inc/Squarespace 6//v6//EN
BEGIN:VEVENT
UID:5b6b80b22b6a28cb570007bb@squarespace.com
DTSTAMP:20180809T000012Z
DTSTART:20180810T230000Z
DTEND:20180811T030000Z
SUMMARY:Spoon Carving Workshop at the Cottage Studio
END:VEVENT
END:VCALENDAR
