BEGIN:VCALENDAR
VERSION:2.0
PRODID:-//Squarespace Inc/Squarespace 6//v6//EN
BEGIN:VEVENT
UID:5b6b8449b8a045e7cef21f11@squarespace.com
DTSTAMP:20180809T000133Z
DTSTART:20180914T223000Z
DTEND:20180915T023000Z
SUMMARY:Spoon Carving Workshop at Vieille Branche\, Brisbane
END:VEVENT
END:VCALENDAR
