BEGIN:VCALENDAR
VERSION:2.0
PRODID:-//Squarespace Inc/Squarespace 6//v6//EN
BEGIN:VEVENT
UID:5b6b8371c2241be7b9021afc@squarespace.com
DTSTAMP:20180808T235919Z
DTSTART:20180831T223000Z
DTEND:20180901T023000Z
SUMMARY:Spoon Carving Workshop at Vieille Branche\, Brisbane
END:VEVENT
END:VCALENDAR
