BEGIN:VCALENDAR
VERSION:2.0
PRODID:-//Squarespace Inc/Squarespace 6//v6//EN
BEGIN:VEVENT
UID:5c0f9da84d7a9c54d424bfa4@squarespace.com
DTSTAMP:20190204T020044Z
DTSTART:20190118T230000Z
DTEND:20190119T050000Z
SUMMARY:Spoon Carving Workshop at Creek Cottage Farm - SOLD OUT
END:VEVENT
END:VCALENDAR
