BEGIN:VCALENDAR
VERSION:2.0
PRODID:-//Squarespace Inc/Squarespace 6//v6//EN
BEGIN:VEVENT
UID:5cdb95ba9b747a135ce19cae@squarespace.com
DTSTAMP:20190515T043019Z
DTSTART:20191011T230000Z
DTEND:20191013T070000Z
SUMMARY:Illawarra Festival of Wood
END:VEVENT
END:VCALENDAR
