BEGIN:VCALENDAR
VERSION:2.0
PRODID:-//Squarespace Inc/Squarespace 6//v6//EN
BEGIN:VEVENT
UID:5cdb943e971a1829bafa1c95@squarespace.com
DTSTAMP:20190515T042818Z
DTSTART:20191025T230000Z
DTEND:20191027T070000Z
SUMMARY:Spoon Jam! 2019
END:VEVENT
END:VCALENDAR
