BEGIN:VCALENDAR
VERSION:2.0
PRODID:-//Squarespace Inc/Squarespace 6//v6//EN
BEGIN:VEVENT
UID:5cdb965871c10bfd3eff350b@squarespace.com
DTSTAMP:20190515T043248Z
DTSTART:20191004T230000Z
DTEND:20191006T070000Z
SUMMARY:Spoonies in the Tweed
END:VEVENT
END:VCALENDAR
